BEGIN:VCALENDAR
PRODID:-//kirchenweb.ch gmbh//veranstaltungsausgabe v2.0//DE
VERSION:2.0
METHOD:PUBLISH
BEGIN:VEVENT
DTSTART:20260510T080000Z
DTEND:20260510T093000Z
LOCATION:Evang. Kirche Eschlikon\, \,
TRANSP:OPAQUE
SEQUENCE:0
UID:5344-veranstaltung@evang-muenchwilen-eschlikon.ch
DTSTAMP:20251202T103255Z
DESCRIPTION:anschl. Apéro\n\nKontakt: Remo Rüegg\, Sozialdiakon\n
 \nWeitere Infos:
  https://www.evang-muenchwilen-eschlikon.ch/veranstaltung/5344
SUMMARY:Konfirmationsgottesdienst Eschlikon
PRIORITY:5
X-MICROSOFT-CDO-IMPORTANCE:1
CLASS:PUBLIC
END:VEVENT
END:VCALENDAR
