BEGIN:VCALENDAR
PRODID:-//kirchenweb.ch gmbh//veranstaltungsausgabe v2.0//DE
VERSION:2.0
METHOD:PUBLISH
BEGIN:VEVENT
DTSTART:20260612T173000Z
DTEND:20260612T200000Z
LOCATION:Evang. Kirchenzentrum Münchwilen\, Kirchstrasse 2\, 9542
  Münchwilen
TRANSP:OPAQUE
SEQUENCE:0
UID:5648-veranstaltung@evang-muenchwilen-eschlikon.ch
DTSTAMP:20260128T130035Z
DESCRIPTION:Kontakt: Karin Appert\, Sozialdiakonin in Ausbildung\n
 \nWeitere Infos:
  https://www.evang-muenchwilen-eschlikon.ch/veranstaltung/5648
SUMMARY:Jugendtreff Underground
PRIORITY:5
X-MICROSOFT-CDO-IMPORTANCE:1
CLASS:PUBLIC
END:VEVENT
END:VCALENDAR
