BEGIN:VCALENDAR
PRODID:-//kirchenweb.ch gmbh//veranstaltungsausgabe v2.0//DE
VERSION:2.0
METHOD:PUBLISH
BEGIN:VEVENT
DTSTART:20260704T064500Z
DTEND:20260704T074500Z
LOCATION:Evang. Kirchenzentrum Münchwilen\, Kirchstrasse 2\, 9542
  Münchwilen
TRANSP:OPAQUE
SEQUENCE:0
UID:6096-veranstaltung@evang-muenchwilen-eschlikon.ch
DTSTAMP:20251110T094946Z
DESCRIPTION:Kontakt: Kristina Bolli\n\nWeitere Infos:
  https://www.evang-muenchwilen-eschlikon.ch/veranstaltung/6096
SUMMARY:Freies Tanzen für Kinder
PRIORITY:5
X-MICROSOFT-CDO-IMPORTANCE:1
CLASS:PUBLIC
END:VEVENT
END:VCALENDAR
