BEGIN:VCALENDAR
PRODID:-//kirchenweb.ch gmbh//veranstaltungsausgabe v2.0//DE
VERSION:2.0
METHOD:PUBLISH
BEGIN:VEVENT
DTSTART:20260529T120000Z
DTEND:20260529T150000Z
LOCATION:Evang. Kirchenzentrum Eschlikon\, Kirchstrasse 11\, 8360
  Eschlikon
TRANSP:OPAQUE
SEQUENCE:0
UID:6150-veranstaltung@evang-muenchwilen-eschlikon.ch
DTSTAMP:20251208T093816Z
DESCRIPTION:Kontakt: Sabine Dietz\n\nWeitere Infos:
  https://www.evang-muenchwilen-eschlikon.ch/veranstaltung/6150
SUMMARY:Kafi\, Tee und meh
PRIORITY:5
X-MICROSOFT-CDO-IMPORTANCE:1
CLASS:PUBLIC
END:VEVENT
END:VCALENDAR
