BEGIN:VCALENDAR
PRODID:-//kirchenweb.ch gmbh//veranstaltungsausgabe v2.0//DE
VERSION:2.0
METHOD:PUBLISH
BEGIN:VEVENT
DTSTART:20260426T173000Z
DTEND:20260426T184500Z
LOCATION:Evang. Kirche Eschlikon\, Kirchstrasse 11\, 8360 Eschlikon
TRANSP:OPAQUE
SEQUENCE:0
UID:6177-veranstaltung@evang-muenchwilen-eschlikon.ch
DTSTAMP:20260223T113306Z
DESCRIPTION:\n\nKontakt: Yvonne Beetschen\, Gemeindegebet\n\nWeitere
  Infos: https://www.evang-muenchwilen-eschlikon.ch/veranstaltung/6177
SUMMARY:Gemeindegebet Eschlikon
PRIORITY:5
X-MICROSOFT-CDO-IMPORTANCE:1
CLASS:PUBLIC
END:VEVENT
END:VCALENDAR
