BEGIN:VCALENDAR
PRODID:-//kirchenweb.ch gmbh//veranstaltungsausgabe v2.0//DE
VERSION:2.0
METHOD:PUBLISH
BEGIN:VEVENT
DTSTART:20260530T110000Z
DTEND:20260530T150000Z
LOCATION:Kath. Kirche Sirnach\, Wilerstrasse 1\, 8370 Sirnach
TRANSP:OPAQUE
SEQUENCE:0
UID:6277-veranstaltung@evang-muenchwilen-eschlikon.ch
DTSTAMP:20260105T082751Z
DESCRIPTION:Krieg oder Frieden? Die Schweiz im 2. Weltkrieg\n\nBesuch der
  Festung Heldsberg in St. Margrethen\n\nKontakt: Karin Appert\,
  Sozialdiakonin in Ausbildung\n\nWeitere Infos:
  https://www.evang-muenchwilen-eschlikon.ch/veranstaltung/6277
SUMMARY:Rise up+
PRIORITY:5
X-MICROSOFT-CDO-IMPORTANCE:1
CLASS:PUBLIC
END:VEVENT
END:VCALENDAR
