BEGIN:VCALENDAR
PRODID:-//kirchenweb.ch gmbh//veranstaltungsausgabe v2.0//DE
VERSION:2.0
METHOD:PUBLISH
BEGIN:VEVENT
DTSTART;VALUE=DATE:20260815
DTEND;VALUE=DATE:20260816
LOCATION:Kath. Kirche Sirnach\, Wilerstrasse 1\, 8370 Sirnach
TRANSP:OPAQUE
SEQUENCE:0
UID:6278-veranstaltung@evang-muenchwilen-eschlikon.ch
DTSTAMP:20260105T082853Z
DESCRIPTION:Wanderung auf den Säntis\n\nIn den Bergen dir und Gott näher
  kommen.\n\nVerschiebedatum: 16. August 2026\n\nKontakt: Karin Appert\,
  Sozialdiakonin in Ausbildung\n\nWeitere Infos:
  https://www.evang-muenchwilen-eschlikon.ch/veranstaltung/6278
SUMMARY:Rise up+
PRIORITY:5
X-MICROSOFT-CDO-IMPORTANCE:1
CLASS:PUBLIC
END:VEVENT
END:VCALENDAR
