BEGIN:VCALENDAR
PRODID:-//kirchenweb.ch gmbh//veranstaltungsausgabe v2.0//DE
VERSION:2.0
METHOD:PUBLISH
BEGIN:VEVENT
DTSTART:20260917T170000Z
DTEND:20260917T190000Z
LOCATION:Evang. Kirchenzentrum Eschlikon\, Kirchstrasse 11\, 8360
  Eschlikon
TRANSP:OPAQUE
SEQUENCE:0
UID:6279-veranstaltung@evang-muenchwilen-eschlikon.ch
DTSTAMP:20260219T101722Z
DESCRIPTION:Sinn & Unsinn\n\nEin ehemaliger Alkoholiker erzählt seine
  Lebensgeschichte.\n\nKontakt: Karin Appert\, Sozialdiakonin in Ausbildung
 \n\nWeitere Infos:
  https://www.evang-muenchwilen-eschlikon.ch/veranstaltung/6279
SUMMARY:Rise up+
PRIORITY:5
X-MICROSOFT-CDO-IMPORTANCE:1
CLASS:PUBLIC
END:VEVENT
END:VCALENDAR
