BEGIN:VCALENDAR
PRODID:-//kirchenweb.ch gmbh//veranstaltungsausgabe v2.0//DE
VERSION:2.0
METHOD:PUBLISH
BEGIN:VEVENT
DTSTART:20261128T123000Z
DTEND:20261128T150000Z
LOCATION:Kath. Kirche Sirnach\, Wilerstrasse 1\, 8370 Sirnach
TRANSP:OPAQUE
SEQUENCE:0
UID:6280-veranstaltung@evang-muenchwilen-eschlikon.ch
DTSTAMP:20260105T083018Z
DESCRIPTION:Adventskranzen & Motorsägekunst\n\nBereite dich und dein
  Zuhause auf Weihnachten vor.\n\nKontakt: Karin Appert\, Sozialdiakonin in
  Ausbildung\n\nWeitere Infos:
  https://www.evang-muenchwilen-eschlikon.ch/veranstaltung/6280
SUMMARY:Rise up+
PRIORITY:5
X-MICROSOFT-CDO-IMPORTANCE:1
CLASS:PUBLIC
END:VEVENT
END:VCALENDAR
