BEGIN:VCALENDAR
PRODID:-//kirchenweb.ch gmbh//veranstaltungsausgabe v2.0//DE
VERSION:2.0
METHOD:PUBLISH
BEGIN:VEVENT
DTSTART:20260423T083000Z
DTEND:20260423T093000Z
LOCATION:Alterszentrum Tannzapfenland\, Rebenacker 4\, 9542 Münchwilen
TRANSP:OPAQUE
SEQUENCE:0
UID:6288-veranstaltung@evang-muenchwilen-eschlikon.ch
DTSTAMP:20260105T083233Z
DESCRIPTION:Kontakt: jasmin.schmid@evang-muenchwilen-eschlikon.ch\n
 \nWeitere Infos:
  https://www.evang-muenchwilen-eschlikon.ch/veranstaltung/6288
SUMMARY:Gottesdienst im Alterszentrum
PRIORITY:5
X-MICROSOFT-CDO-IMPORTANCE:1
CLASS:PUBLIC
END:VEVENT
END:VCALENDAR
