BEGIN:VCALENDAR
PRODID:-//kirchenweb.ch gmbh//veranstaltungsausgabe v2.0//DE
VERSION:2.0
METHOD:PUBLISH
BEGIN:VEVENT
DTSTART:20260610T120000Z
DTEND:20260610T150000Z
LOCATION:Evang. Kirchenzentrum Münchwilen\, Kirchstrasse 2\, 9542
  Münchwilen
TRANSP:OPAQUE
SEQUENCE:0
UID:6373-veranstaltung@evang-muenchwilen-eschlikon.ch
DTSTAMP:20260114T134600Z
DESCRIPTION:Kontakt: Remo Rüegg\, Sozialdiakon\n\nWeitere Infos:
  https://www.evang-muenchwilen-eschlikon.ch/veranstaltung/6373
SUMMARY:Café Chiläwiesä
PRIORITY:5
X-MICROSOFT-CDO-IMPORTANCE:1
CLASS:PUBLIC
END:VEVENT
END:VCALENDAR
