BEGIN:VCALENDAR
PRODID:-//kirchenweb.ch gmbh//veranstaltungsausgabe v2.0//DE
VERSION:2.0
METHOD:PUBLISH
BEGIN:VEVENT
DTSTART:20260422T103000Z
DTEND:20260422T113000Z
LOCATION:Evang. Kirchenzentrum Münchwilen\, Kirchstrasse 2\, 9542
  Münchwilen
TRANSP:OPAQUE
SEQUENCE:0
UID:6451-veranstaltung@evang-muenchwilen-eschlikon.ch
DTSTAMP:20260205T081456Z
DESCRIPTION:Wir treffen uns jeweils an einem Mittwoch im Kirchenzentrum
  Münchwilen\, um eine Stunde über den Mittag gemeinsam Zeit zu
  verbringen:\n12.30 Uhr miteinander Pause machen mit einem selbst
  mitgebrachten Zmittag.\n13.00 Uhr miteinander Beten für unsere
  Kirchgemeinde Münchwilen-Eschlikon mit ihren verschiedenen Orten.\n
 \nHerzliche Einladung zu den Treffen\, wir freuen uns auf eine gute
  Gemeinschaft untereinander und mit Gott.\n\n\nKontakt: Pfarrerin Susanne
  Gröger\n\nWeitere Infos:
  https://www.evang-muenchwilen-eschlikon.ch/veranstaltung/6451
SUMMARY:Mittags miteinander: Pause und Gebet
PRIORITY:5
X-MICROSOFT-CDO-IMPORTANCE:1
CLASS:PUBLIC
END:VEVENT
END:VCALENDAR
