BEGIN:VCALENDAR
PRODID:-//kirchenweb.ch gmbh//veranstaltungsausgabe v2.0//DE
VERSION:2.0
METHOD:PUBLISH
BEGIN:VEVENT
DTSTART:20260526T170000Z
DTEND:20260526T183000Z
LOCATION:Evang. Kirchenzentrum Eschlikon\, Kirchstrasse 11\, 8360
  Eschlikon
TRANSP:OPAQUE
SEQUENCE:0
UID:6469-veranstaltung@evang-muenchwilen-eschlikon.ch
DTSTAMP:20260208T072741Z
DESCRIPTION:Kontakt: Pfarrerin Susanne Gröger\n\nWeitere Infos:
  https://www.evang-muenchwilen-eschlikon.ch/veranstaltung/6469
SUMMARY:Projektchor
PRIORITY:5
X-MICROSOFT-CDO-IMPORTANCE:1
CLASS:PUBLIC
END:VEVENT
END:VCALENDAR
