BEGIN:VCALENDAR
PRODID:-//kirchenweb.ch gmbh//veranstaltungsausgabe v2.0//DE
VERSION:2.0
METHOD:PUBLISH
BEGIN:VEVENT
DTSTART:20260527T143000Z
DTEND:20260527T153000Z
LOCATION:Kath. Kirche\, Eschlikon\, Wiesenstrasse\, 8360 Eschlikon
TRANSP:OPAQUE
SEQUENCE:0
UID:6476-veranstaltung@evang-muenchwilen-eschlikon.ch
DTSTAMP:20260212T070635Z
DESCRIPTION:Kontakt: Nicole Mosberger\n\nWeitere Infos:
  https://www.evang-muenchwilen-eschlikon.ch/veranstaltung/6476
SUMMARY:Fiire mit de Chline
PRIORITY:5
X-MICROSOFT-CDO-IMPORTANCE:1
CLASS:PUBLIC
END:VEVENT
END:VCALENDAR
