BEGIN:VCALENDAR
PRODID:-//kirchenweb.ch gmbh//veranstaltungsausgabe v2.0//DE
VERSION:2.0
METHOD:PUBLISH
BEGIN:VEVENT
DTSTART:20260822T173000Z
DTEND:20260822T210000Z
LOCATION:Evang. Kirche Eschlikon\, Kirchstrasse 11\, 8360 Eschlikon
TRANSP:OPAQUE
SEQUENCE:0
UID:6503-veranstaltung@evang-muenchwilen-eschlikon.ch
DTSTAMP:20260312T163337Z
DESCRIPTION:18.30 Uhr Abendessen\n19.30 Uhr Worship-Night\n\nKontakt: Remo
  Rüegg\, Sozialdiakon\nPfarrerin Susanne Gröger\n\nWeitere Infos:
  https://www.evang-muenchwilen-eschlikon.ch/veranstaltung/6503
SUMMARY:Worship-Night Allianz Hinterthurgau
PRIORITY:5
X-MICROSOFT-CDO-IMPORTANCE:1
CLASS:PUBLIC
END:VEVENT
END:VCALENDAR
