BEGIN:VCALENDAR
PRODID:-//kirchenweb.ch gmbh//veranstaltungsausgabe v2.0//DE
VERSION:2.0
METHOD:PUBLISH
BEGIN:VEVENT
DTSTART:20260625T120000Z
DTEND:20260625T140000Z
LOCATION:Evang. Kirchenzentrum Münchwilen\, Kirchstrasse 2\, 9542
  Münchwilen
TRANSP:OPAQUE
SEQUENCE:0
UID:6517-veranstaltung@evang-muenchwilen-eschlikon.ch
DTSTAMP:20260312T112945Z
DESCRIPTION:Kontakt: Silvia Krauer\nTel.: 071 966 39 45\n\nWeitere Infos:
  https://www.evang-muenchwilen-eschlikon.ch/veranstaltung/6517
SUMMARY:Seniorentreff Münchwilen
PRIORITY:5
X-MICROSOFT-CDO-IMPORTANCE:1
CLASS:PUBLIC
END:VEVENT
END:VCALENDAR
