BEGIN:VCALENDAR
PRODID:-//kirchenweb.ch gmbh//veranstaltungsausgabe v2.0//DE
VERSION:2.0
METHOD:PUBLISH
BEGIN:VEVENT
DTSTART:20260822T163000Z
DTEND:20260822T173000Z
LOCATION:Evang. Kirche Eschlikon\, Kirchstrasse 11\, 8360 Eschlikon
TRANSP:OPAQUE
SEQUENCE:0
UID:6522-veranstaltung@evang-muenchwilen-eschlikon.ch
DTSTAMP:20260312T163232Z
DESCRIPTION:Kontakt: Remo Rüegg\, Sozialdiakon\nPfarrerin Susanne Gröger
 \n\nWeitere Infos:
  https://www.evang-muenchwilen-eschlikon.ch/veranstaltung/6522
SUMMARY:Z'nacht zur Worship-Night
PRIORITY:5
X-MICROSOFT-CDO-IMPORTANCE:1
CLASS:PUBLIC
END:VEVENT
END:VCALENDAR
